Package: MOGAMUN Version: 1.19.0 Command: rm -rf MOGAMUN.buildbin-libdir && mkdir MOGAMUN.buildbin-libdir && /Users/biocbuild/BBS/utils/build-universal.sh MOGAMUN_1.19.0.tar.gz /Library/Frameworks/R.framework/Resources/bin/R MOGAMUN.buildbin-libdir StartedAt: 2025-10-04 02:16:11 -0400 (Sat, 04 Oct 2025) EndedAt: 2025-10-04 02:16:24 -0400 (Sat, 04 Oct 2025) EllapsedTime: 12.7 seconds RetCode: 0 Status: OK PackageFile: MOGAMUN_1.19.0.tgz PackageFileSize: 175.3 KiB