Package: MOFA2 Version: 1.21.0 Command: /home/biocbuild/bbs-3.23-bioc/R/bin/R CMD build --keep-empty-dirs --no-resave-data MOFA2 StartedAt: 2025-11-18 19:37:24 -0500 (Tue, 18 Nov 2025) EndedAt: 2025-11-18 19:39:02 -0500 (Tue, 18 Nov 2025) EllapsedTime: 98.1 seconds RetCode: 0 Status: OK PackageFile: MOFA2_1.21.0.tar.gz PackageFileSize: 4.461 MiB