Package: MOFA2 Version: 1.19.0 Command: /Library/Frameworks/R.framework/Resources/bin/R CMD INSTALL MOFA2 StartedAt: 2025-10-19 15:08:22 -0400 (Sun, 19 Oct 2025) EndedAt: 2025-10-19 15:08:32 -0400 (Sun, 19 Oct 2025) EllapsedTime: 9.3 seconds RetCode: 0 Status: OK