Package: MODA Version: 1.35.0 Command: /Library/Frameworks/R.framework/Resources/bin/R CMD INSTALL MODA StartedAt: 2025-10-05 15:35:04 -0400 (Sun, 05 Oct 2025) EndedAt: 2025-10-05 15:35:31 -0400 (Sun, 05 Oct 2025) EllapsedTime: 27.5 seconds RetCode: 0 Status: OK