Package: MMUPHin Version: 1.25.0 Command: /home/biocbuild/bbs-3.23-bioc/R/bin/R CMD build --keep-empty-dirs --no-resave-data MMUPHin StartedAt: 2025-11-07 18:40:34 -0500 (Fri, 07 Nov 2025) EndedAt: 2025-11-07 18:41:33 -0500 (Fri, 07 Nov 2025) EllapsedTime: 59.0 seconds RetCode: 0 Status: OK PackageFile: MMUPHin_1.25.0.tar.gz PackageFileSize: 3.689 MiB