Package: MMDiff2 Version: 1.39.0 Command: /home/biocbuild/bbs-3.23-bioc/R/bin/R CMD check --install=check:MMDiff2.install-out.txt --library=/home/biocbuild/bbs-3.23-bioc/R/site-library --timings MMDiff2_1.39.0.tar.gz StartedAt: 2025-11-06 01:28:38 -0500 (Thu, 06 Nov 2025) EndedAt: 2025-11-06 01:34:57 -0500 (Thu, 06 Nov 2025) EllapsedTime: 379.4 seconds RetCode: 0 Status: OK CheckDir: MMDiff2.Rcheck Warnings: 0