Package: MMDiff2 Version: 1.37.1 Command: /Library/Frameworks/R.framework/Resources/bin/R CMD check --install=check:MMDiff2.install-out.txt --library=/Library/Frameworks/R.framework/Resources/library --no-vignettes --timings MMDiff2_1.37.1.tar.gz StartedAt: 2025-10-27 20:46:09 -0400 (Mon, 27 Oct 2025) EndedAt: 2025-10-27 20:48:08 -0400 (Mon, 27 Oct 2025) EllapsedTime: 119.4 seconds RetCode: 0 Status: OK CheckDir: MMDiff2.Rcheck Warnings: 0