Package: MLSeq Version: 2.27.0 Command: chmod a+r MLSeq -R && F:\biocbuild\bbs-3.22-bioc\R\bin\R.exe CMD build --keep-empty-dirs --no-resave-data MLSeq StartedAt: 2025-08-14 21:34:11 -0400 (Thu, 14 Aug 2025) EndedAt: 2025-08-14 21:36:55 -0400 (Thu, 14 Aug 2025) EllapsedTime: 164.2 seconds RetCode: 0 Status: OK PackageFile: MLSeq_2.27.0.tar.gz PackageFileSize: 528.3 KiB