Package: MLSeq Version: 2.27.0 Command: rm -rf MLSeq.buildbin-libdir && mkdir MLSeq.buildbin-libdir && F:\biocbuild\bbs-3.22-bioc\R\bin\R.exe CMD INSTALL --build --library=MLSeq.buildbin-libdir MLSeq_2.27.0.tar.gz StartedAt: 2025-08-15 10:43:49 -0400 (Fri, 15 Aug 2025) EndedAt: 2025-08-15 10:44:58 -0400 (Fri, 15 Aug 2025) EllapsedTime: 69.5 seconds RetCode: 0 Status: OK PackageFile: MLSeq_2.27.0.zip PackageFileSize: 1021 KiB