Package: MLSeq Version: 2.29.0 Command: /home/biocbuild/bbs-3.23-bioc/R/bin/R CMD check --install=check:MLSeq.install-out.txt --library=/home/biocbuild/bbs-3.23-bioc/R/site-library --timings MLSeq_2.29.0.tar.gz StartedAt: 2025-11-21 01:32:45 -0500 (Fri, 21 Nov 2025) EndedAt: 2025-11-21 01:37:37 -0500 (Fri, 21 Nov 2025) EllapsedTime: 292.3 seconds RetCode: 0 Status: OK CheckDir: MLSeq.Rcheck Warnings: 0