Package: MLSeq Version: 2.29.0 Command: /home/biocbuild/bbs-3.23-bioc/R/bin/R CMD build --keep-empty-dirs --no-resave-data MLSeq StartedAt: 2025-11-20 18:44:25 -0500 (Thu, 20 Nov 2025) EndedAt: 2025-11-20 18:46:02 -0500 (Thu, 20 Nov 2025) EllapsedTime: 97.1 seconds RetCode: 0 Status: OK PackageFile: MLSeq_2.29.0.tar.gz PackageFileSize: 639.5 KiB