Package: MLP Version: 1.59.0 Command: /home/biocbuild/bbs-3.23-bioc/R/bin/R CMD INSTALL MLP StartedAt: 2025-11-04 15:30:35 -0500 (Tue, 04 Nov 2025) EndedAt: 2025-11-04 15:30:47 -0500 (Tue, 04 Nov 2025) EllapsedTime: 12.3 seconds RetCode: 0 Status: OK