Package: MLP Version: 1.59.0 Command: /home/biocbuild/bbs-3.23-bioc/R/bin/R CMD build --keep-empty-dirs --no-resave-data MLP StartedAt: 2025-11-04 18:38:53 -0500 (Tue, 04 Nov 2025) EndedAt: 2025-11-04 18:39:43 -0500 (Tue, 04 Nov 2025) EllapsedTime: 50.0 seconds RetCode: 0 Status: OK PackageFile: MLP_1.59.0.tar.gz PackageFileSize: 4.285 MiB