Package: MLP Version: 1.57.0 Command: /Library/Frameworks/R.framework/Resources/bin/R CMD INSTALL MLP StartedAt: 2025-10-12 15:30:28 -0400 (Sun, 12 Oct 2025) EndedAt: 2025-10-12 15:30:45 -0400 (Sun, 12 Oct 2025) EllapsedTime: 17.2 seconds RetCode: 0 Status: OK