Package: MLP Version: 1.57.0 Command: /Library/Frameworks/R.framework/Resources/bin/R CMD build --keep-empty-dirs --no-resave-data MLP StartedAt: 2025-10-12 18:01:31 -0400 (Sun, 12 Oct 2025) EndedAt: 2025-10-12 18:03:27 -0400 (Sun, 12 Oct 2025) EllapsedTime: 115.7 seconds RetCode: 0 Status: OK PackageFile: MLP_1.57.0.tar.gz PackageFileSize: 4.285 MiB