Package: MLP Version: 1.57.0 Command: rm -rf MLP.buildbin-libdir && mkdir MLP.buildbin-libdir && /Users/biocbuild/BBS/utils/build-universal.sh MLP_1.57.0.tar.gz /Library/Frameworks/R.framework/Resources/bin/R MLP.buildbin-libdir StartedAt: 2025-10-13 02:43:22 -0400 (Mon, 13 Oct 2025) EndedAt: 2025-10-13 02:43:42 -0400 (Mon, 13 Oct 2025) EllapsedTime: 19.8 seconds RetCode: 0 Status: OK PackageFile: MLP_1.57.0.tgz PackageFileSize: 4.337 MiB