Package: MLInterfaces Version: 1.89.0 Command: F:\biocbuild\bbs-3.22-bioc\R\bin\R.exe CMD INSTALL MLInterfaces StartedAt: 2025-08-14 16:01:28 -0400 (Thu, 14 Aug 2025) EndedAt: 2025-08-14 16:02:47 -0400 (Thu, 14 Aug 2025) EllapsedTime: 79.0 seconds RetCode: 0 Status: OK