Package: MLInterfaces Version: 1.89.0 Command: rm -rf MLInterfaces.buildbin-libdir && mkdir MLInterfaces.buildbin-libdir && F:\biocbuild\bbs-3.22-bioc\R\bin\R.exe CMD INSTALL --build --library=MLInterfaces.buildbin-libdir MLInterfaces_1.89.0.tar.gz StartedAt: 2025-08-15 10:43:44 -0400 (Fri, 15 Aug 2025) EndedAt: 2025-08-15 10:46:00 -0400 (Fri, 15 Aug 2025) EllapsedTime: 135.6 seconds RetCode: 0 Status: OK PackageFile: MLInterfaces_1.89.0.zip PackageFileSize: 1.631 MiB