Package: MLInterfaces Version: 1.91.0 Command: /home/biocbuild/bbs-3.23-bioc/R/bin/R CMD INSTALL MLInterfaces StartedAt: 2025-11-02 15:35:16 -0500 (Sun, 02 Nov 2025) EndedAt: 2025-11-02 15:35:47 -0500 (Sun, 02 Nov 2025) EllapsedTime: 30.3 seconds RetCode: 0 Status: OK