Package: MLInterfaces Version: 1.91.0 Command: /home/biocbuild/bbs-3.23-bioc/R/bin/R CMD check --install=check:MLInterfaces.install-out.txt --library=/home/biocbuild/bbs-3.23-bioc/R/site-library --timings MLInterfaces_1.91.0.tar.gz StartedAt: 2025-11-21 01:32:03 -0500 (Fri, 21 Nov 2025) EndedAt: 2025-11-21 01:36:43 -0500 (Fri, 21 Nov 2025) EllapsedTime: 280.3 seconds RetCode: 0 Status: WARNINGS CheckDir: MLInterfaces.Rcheck Warnings: 1