Package: MLInterfaces Version: 1.91.0 Command: /home/biocbuild/bbs-3.23-bioc/R/bin/R CMD build --keep-empty-dirs --no-resave-data MLInterfaces StartedAt: 2025-10-31 18:53:07 -0400 (Fri, 31 Oct 2025) EndedAt: 2025-10-31 18:54:11 -0400 (Fri, 31 Oct 2025) EllapsedTime: 64.0 seconds RetCode: 0 Status: OK PackageFile: MLInterfaces_1.91.0.tar.gz PackageFileSize: 2.8 MiB