Package: MLInterfaces Version: 1.91.0 Command: /Library/Frameworks/R.framework/Resources/bin/R CMD INSTALL MLInterfaces StartedAt: 2025-11-20 15:30:25 -0500 (Thu, 20 Nov 2025) EndedAt: 2025-11-20 15:31:07 -0500 (Thu, 20 Nov 2025) EllapsedTime: 42.1 seconds RetCode: 0 Status: OK