Package: MLInterfaces Version: 1.91.0 Command: /Library/Frameworks/R.framework/Resources/bin/R CMD check --install=check:MLInterfaces.install-out.txt --library=/Library/Frameworks/R.framework/Resources/library --no-vignettes --timings MLInterfaces_1.91.0.tar.gz StartedAt: 2025-11-21 22:28:48 -0500 (Fri, 21 Nov 2025) EndedAt: 2025-11-21 22:32:58 -0500 (Fri, 21 Nov 2025) EllapsedTime: 250.1 seconds RetCode: 0 Status: WARNINGS CheckDir: MLInterfaces.Rcheck Warnings: 1