Package: MLInterfaces Version: 1.91.0 Command: /Library/Frameworks/R.framework/Resources/bin/R CMD build --keep-empty-dirs --no-resave-data MLInterfaces StartedAt: 2025-11-20 17:46:04 -0500 (Thu, 20 Nov 2025) EndedAt: 2025-11-20 17:47:29 -0500 (Thu, 20 Nov 2025) EllapsedTime: 85.5 seconds RetCode: 0 Status: OK PackageFile: MLInterfaces_1.91.0.tar.gz PackageFileSize: 2.806 MiB