Package: MLInterfaces Version: 1.91.0 Command: rm -rf MLInterfaces.buildbin-libdir && mkdir MLInterfaces.buildbin-libdir && /Users/biocbuild/BBS/utils/build-universal.sh MLInterfaces_1.91.0.tar.gz /Library/Frameworks/R.framework/Resources/bin/R MLInterfaces.buildbin-libdir StartedAt: 2025-11-21 01:43:52 -0500 (Fri, 21 Nov 2025) EndedAt: 2025-11-21 01:44:38 -0500 (Fri, 21 Nov 2025) EllapsedTime: 46.0 seconds RetCode: 0 Status: OK PackageFile: MLInterfaces_1.91.0.tgz PackageFileSize: 3.213 MiB