Package: MIRit Version: 1.5.2 Command: /home/biocbuild/bbs-3.22-bioc/R/bin/R CMD INSTALL MIRit StartedAt: 2025-10-20 15:48:55 -0400 (Mon, 20 Oct 2025) EndedAt: 2025-10-20 15:49:36 -0400 (Mon, 20 Oct 2025) EllapsedTime: 41.2 seconds RetCode: 0 Status: OK