Package: MIRit Version: 1.5.2 Command: /home/biocbuild/bbs-3.22-bioc/R/bin/R CMD build --keep-empty-dirs --no-resave-data --md5 MIRit StartedAt: 2025-10-19 18:43:14 -0400 (Sun, 19 Oct 2025) EndedAt: 2025-10-19 18:44:27 -0400 (Sun, 19 Oct 2025) EllapsedTime: 73.1 seconds RetCode: 0 Status: OK PackageFile: MIRit_1.5.2.tar.gz PackageFileSize: 2.613 MiB