Package: MIRit Version: 1.7.1 Command: /home/biocbuild/bbs-3.23-bioc/R/bin/R CMD INSTALL MIRit StartedAt: 2025-11-21 15:48:32 -0500 (Fri, 21 Nov 2025) EndedAt: 2025-11-21 15:49:14 -0500 (Fri, 21 Nov 2025) EllapsedTime: 41.7 seconds RetCode: 0 Status: OK