Package: MIRit Version: 1.7.1 Command: /home/biocbuild/bbs-3.23-bioc/R/bin/R CMD build --keep-empty-dirs --no-resave-data MIRit StartedAt: 2025-11-21 18:44:10 -0500 (Fri, 21 Nov 2025) EndedAt: 2025-11-21 18:45:24 -0500 (Fri, 21 Nov 2025) EllapsedTime: 74.1 seconds RetCode: 0 Status: OK PackageFile: MIRit_1.7.1.tar.gz PackageFileSize: 2.608 MiB