Package: MIRit Version: 1.7.1 Command: /Library/Frameworks/R.framework/Resources/bin/R CMD INSTALL MIRit StartedAt: 2025-11-20 15:24:31 -0500 (Thu, 20 Nov 2025) EndedAt: 2025-11-20 15:24:48 -0500 (Thu, 20 Nov 2025) EllapsedTime: 16.1 seconds RetCode: 0 Status: OK