Package: MIRit Version: 1.7.1 Command: /Library/Frameworks/R.framework/Resources/bin/R CMD build --keep-empty-dirs --no-resave-data MIRit StartedAt: 2025-11-20 16:59:06 -0500 (Thu, 20 Nov 2025) EndedAt: 2025-11-20 16:59:35 -0500 (Thu, 20 Nov 2025) EllapsedTime: 29.3 seconds RetCode: 0 Status: OK PackageFile: MIRit_1.7.1.tar.gz PackageFileSize: 2.708 MiB