Package: MIRit Version: 1.7.1 Command: rm -rf MIRit.buildbin-libdir && mkdir MIRit.buildbin-libdir && /Users/biocbuild/BBS/utils/build-universal.sh MIRit_1.7.1.tar.gz /Library/Frameworks/R.framework/Resources/bin/R MIRit.buildbin-libdir StartedAt: 2025-11-21 23:40:27 -0500 (Fri, 21 Nov 2025) EndedAt: 2025-11-21 23:40:48 -0500 (Fri, 21 Nov 2025) EllapsedTime: 20.5 seconds RetCode: 0 Status: OK PackageFile: MIRit_1.7.1.tgz PackageFileSize: 3.031 MiB