Package: MIRA Version: 1.31.0 Command: /home/biocbuild/bbs-3.22-bioc/R/bin/R CMD INSTALL MIRA StartedAt: 2025-10-07 15:35:48 -0400 (Tue, 07 Oct 2025) EndedAt: 2025-10-07 15:36:29 -0400 (Tue, 07 Oct 2025) EllapsedTime: 40.5 seconds RetCode: 0 Status: OK