Package: MIRA Version: 1.33.0 Command: /home/biocbuild/bbs-3.23-bioc/R/bin/R CMD INSTALL MIRA StartedAt: 2025-11-21 15:33:46 -0500 (Fri, 21 Nov 2025) EndedAt: 2025-11-21 15:34:28 -0500 (Fri, 21 Nov 2025) EllapsedTime: 42.1 seconds RetCode: 0 Status: OK