Package: MIRA Version: 1.33.0 Command: /home/biocbuild/bbs-3.23-bioc/R/bin/R CMD build --keep-empty-dirs --no-resave-data MIRA StartedAt: 2025-11-21 18:43:13 -0500 (Fri, 21 Nov 2025) EndedAt: 2025-11-21 18:44:17 -0500 (Fri, 21 Nov 2025) EllapsedTime: 64.0 seconds RetCode: 0 Status: OK PackageFile: MIRA_1.33.0.tar.gz PackageFileSize: 2.506 MiB