Package: MIRA Version: 1.33.0 Command: /Library/Frameworks/R.framework/Resources/bin/R CMD build --keep-empty-dirs --no-resave-data MIRA StartedAt: 2025-11-21 17:44:07 -0500 (Fri, 21 Nov 2025) EndedAt: 2025-11-21 17:45:28 -0500 (Fri, 21 Nov 2025) EllapsedTime: 81.3 seconds RetCode: 0 Status: OK PackageFile: MIRA_1.33.0.tar.gz PackageFileSize: 2.532 MiB