Package: MIRA Version: 1.31.0 Command: /Library/Frameworks/R.framework/Resources/bin/R CMD INSTALL MIRA StartedAt: 2025-10-28 15:18:15 -0400 (Tue, 28 Oct 2025) EndedAt: 2025-10-28 15:18:31 -0400 (Tue, 28 Oct 2025) EllapsedTime: 16.1 seconds RetCode: 0 Status: OK