Package: MIRA Version: 1.31.0 Command: /Library/Frameworks/R.framework/Resources/bin/R CMD build --keep-empty-dirs --no-resave-data MIRA StartedAt: 2025-10-27 17:01:45 -0400 (Mon, 27 Oct 2025) EndedAt: 2025-10-27 17:02:16 -0400 (Mon, 27 Oct 2025) EllapsedTime: 30.3 seconds RetCode: 0 Status: OK PackageFile: MIRA_1.31.0.tar.gz PackageFileSize: 2.532 MiB