Package: MIRA Version: 1.31.0 Command: rm -rf MIRA.buildbin-libdir && mkdir MIRA.buildbin-libdir && /Users/biocbuild/BBS/utils/build-universal.sh MIRA_1.31.0.tar.gz /Library/Frameworks/R.framework/Resources/bin/R MIRA.buildbin-libdir StartedAt: 2025-10-27 23:09:36 -0400 (Mon, 27 Oct 2025) EndedAt: 2025-10-27 23:09:54 -0400 (Mon, 27 Oct 2025) EllapsedTime: 18.4 seconds RetCode: 0 Status: OK PackageFile: MIRA_1.31.0.tgz PackageFileSize: 2.584 MiB