Package: MICSQTL Version: 1.7.0 Command: /home/biocbuild/R/R/bin/R CMD build --keep-empty-dirs --no-resave-data MICSQTL StartedAt: 2025-10-21 01:14:56 -0000 (Tue, 21 Oct 2025) EndedAt: 2025-10-21 01:15:50 -0000 (Tue, 21 Oct 2025) EllapsedTime: 54.0 seconds RetCode: 0 Status: OK PackageFile: MICSQTL_1.7.0.tar.gz PackageFileSize: 3.109 MiB