Package: MICSQTL Version: 1.9.0 Command: /home/biocbuild/bbs-3.23-bioc/R/bin/R CMD build --keep-empty-dirs --no-resave-data MICSQTL StartedAt: 2025-11-05 18:41:53 -0500 (Wed, 05 Nov 2025) EndedAt: 2025-11-05 18:42:39 -0500 (Wed, 05 Nov 2025) EllapsedTime: 46.0 seconds RetCode: 0 Status: OK PackageFile: MICSQTL_1.9.0.tar.gz PackageFileSize: 3.085 MiB