Package: MGnifyR Version: 1.5.0 Command: /Library/Frameworks/R.framework/Resources/bin/R CMD INSTALL MGnifyR StartedAt: 2025-10-01 15:31:36 -0400 (Wed, 01 Oct 2025) EndedAt: 2025-10-01 15:31:53 -0400 (Wed, 01 Oct 2025) EllapsedTime: 16.7 seconds RetCode: 0 Status: OK