Package: MGnifyR Version: 1.5.0 Command: /Library/Frameworks/R.framework/Resources/bin/R CMD build --keep-empty-dirs --no-resave-data MGnifyR StartedAt: 2025-09-30 17:00:19 -0400 (Tue, 30 Sep 2025) EndedAt: 2025-09-30 17:01:02 -0400 (Tue, 30 Sep 2025) EllapsedTime: 42.5 seconds RetCode: 0 Status: OK PackageFile: MGnifyR_1.5.0.tar.gz PackageFileSize: 4.298 MiB