Package: MGFR Version: 1.35.0 Command: /home/biocbuild/bbs-3.22-bioc/R/bin/R CMD INSTALL MGFR StartedAt: 2025-10-10 15:41:57 -0400 (Fri, 10 Oct 2025) EndedAt: 2025-10-10 15:42:11 -0400 (Fri, 10 Oct 2025) EllapsedTime: 14.0 seconds RetCode: 0 Status: OK