Package: MGFM Version: 1.45.0 Command: /home/biocbuild/bbs-3.23-bioc/R/bin/R CMD build --keep-empty-dirs --no-resave-data MGFM StartedAt: 2025-11-20 18:38:28 -0500 (Thu, 20 Nov 2025) EndedAt: 2025-11-20 18:38:54 -0500 (Thu, 20 Nov 2025) EllapsedTime: 26.0 seconds RetCode: 0 Status: OK PackageFile: MGFM_1.45.0.tar.gz PackageFileSize: 3.491 MiB