Package: MGFM Version: 1.45.0 Command: /Library/Frameworks/R.framework/Resources/bin/R CMD INSTALL MGFM StartedAt: 2025-11-20 15:30:08 -0500 (Thu, 20 Nov 2025) EndedAt: 2025-11-20 15:30:27 -0500 (Thu, 20 Nov 2025) EllapsedTime: 19.0 seconds RetCode: 0 Status: OK