Package: MGFM Version: 1.45.0 Command: /Library/Frameworks/R.framework/Resources/bin/R CMD build --keep-empty-dirs --no-resave-data MGFM StartedAt: 2025-11-20 17:42:21 -0500 (Thu, 20 Nov 2025) EndedAt: 2025-11-20 17:42:58 -0500 (Thu, 20 Nov 2025) EllapsedTime: 37.8 seconds RetCode: 0 Status: OK PackageFile: MGFM_1.45.0.tar.gz PackageFileSize: 3.491 MiB