Package: MGFM Version: 1.43.0 Command: /Library/Frameworks/R.framework/Resources/bin/R CMD INSTALL MGFM StartedAt: 2025-10-19 15:09:28 -0400 (Sun, 19 Oct 2025) EndedAt: 2025-10-19 15:09:33 -0400 (Sun, 19 Oct 2025) EllapsedTime: 5.5 seconds RetCode: 0 Status: OK