Package: MGFM Version: 1.43.0 Command: /Library/Frameworks/R.framework/Resources/bin/R CMD build --keep-empty-dirs --no-resave-data MGFM StartedAt: 2025-10-19 16:58:30 -0400 (Sun, 19 Oct 2025) EndedAt: 2025-10-19 16:58:45 -0400 (Sun, 19 Oct 2025) EllapsedTime: 15.2 seconds RetCode: 0 Status: OK PackageFile: MGFM_1.43.0.tar.gz PackageFileSize: 3.492 MiB