Package: MGFM Version: 1.43.0 Command: rm -rf MGFM.buildbin-libdir && mkdir MGFM.buildbin-libdir && /Users/biocbuild/BBS/utils/build-universal.sh MGFM_1.43.0.tar.gz /Library/Frameworks/R.framework/Resources/bin/R MGFM.buildbin-libdir StartedAt: 2025-10-19 23:06:11 -0400 (Sun, 19 Oct 2025) EndedAt: 2025-10-19 23:06:17 -0400 (Sun, 19 Oct 2025) EllapsedTime: 6.1 seconds RetCode: 0 Status: OK PackageFile: MGFM_1.43.0.tgz PackageFileSize: 3.138 MiB